BEGIN:VCALENDAR
VERSION:2.0
PRODID:-//Le Tigre | Brasserie à Strasbourg - ECPv6.15.11//NONSGML v1.0//EN
CALSCALE:GREGORIAN
METHOD:PUBLISH
X-ORIGINAL-URL:https://letigre.eu
X-WR-CALDESC:Évènements pour Le Tigre | Brasserie à Strasbourg
REFRESH-INTERVAL;VALUE=DURATION:PT1H
X-Robots-Tag:noindex
X-PUBLISHED-TTL:PT1H
BEGIN:VTIMEZONE
TZID:UTC
BEGIN:STANDARD
TZOFFSETFROM:+0000
TZOFFSETTO:+0000
TZNAME:UTC
DTSTART:20250101T000000
END:STANDARD
END:VTIMEZONE
BEGIN:VEVENT
DTSTART;VALUE=DATE:20260105
DTEND;VALUE=DATE:20260201
DTSTAMP:20260421T112729
CREATED:20260105T123105Z
LAST-MODIFIED:20260105T133646Z
UID:22163-1767571200-1769903999@letigre.eu
SUMMARY:Événements janvier 2026
DESCRIPTION:  \nLe Programme de Janvier au Petit Tigre ! 🐯🔥\nCommencez l’année en beauté avec un mois ultra-festif. Danse\, humour\, musique et Drag Show : votre QG est prêt ! \nLes Rendez-vous à ne pas manquer :\n\n\nVen. 09 : NUIT BLUES 🎷 — 20h00 / Initiation et soirée dansante avec The Steppin Community. \n\n\nSam. 10 : TIGER NIGHT 💃 — Dès 19h45 / Avec Aysel Bal et I’Land Dance S’cool (10€ à 20€). \n\n\nSam. 24 : SPECTACULAR DRAG STAGE 👑 — 21h00 / Présenté par Madame de Kurbis & Melankhölia Marley (10€). \n\n\nDim. 25 : POP-UP – LES SOUVENIRS 🛍️ — 11h00-19h00 / Frip\, DJ set\, marché de créateurs & more. \n\n\nJeu. 29 : JAM JAZZ DU TIGRE 🎺 — 20h00 / Concert d’ouverture avec Stefan Sirbu Trio (GRATUIT). \n\n\nSam. 31 : KARAOKÉ XXL 🎤 — 21h00 / Animé par Nöximä\, Arï & Anïssa Benma Marley. \n\n\nQG DU RACING ⚽\nSupporters\, venez vibrer pour les matchs du mois : \n\n\n03 Jan. (19h) : Nice / 10 Jan. (18h) : Avranches \n\n\n18 Jan. (15h) : Metz / 25 Jan. (20h45) : Lille
URL:https://letigre.eu/evenement/evenements-janvier-2026/
LOCATION:Petit Tigre\, 5 rue du Faubourg National\, STRASBOURG\, 67000\, France
CATEGORIES:Calendrier
ATTACH;FMTTYPE=image/webp:https://letigre.eu/wp-content/uploads/2026/01/Événements-Strasbourg-Concerts-Jazz-et-Karaoké-au-Tigre.webp
END:VEVENT
BEGIN:VEVENT
DTSTART;TZID=UTC:20260109T203000
DTEND;TZID=UTC:20260110T000000
DTSTAMP:20260421T112729
CREATED:20260105T125153Z
LAST-MODIFIED:20260106T080718Z
UID:22175-1767990600-1768003200@letigre.eu
SUMMARY:Nuit Blues Strasbourg : Initiation et Danse
DESCRIPTION:VEN. 09 JAN. : NUIT BLUES\nLANCE TON WEEK-END AVEC DU FEELING ! 🎶 \nRendez-vous au bar le Tigre pour une immersion totale dans la culture Blues. Que tu sois débutant ou passionné\, viens vibrer avec The Steppin Community ! \n\n\nProgramme : 20h00 Initiation pour tous niveaux & 21h00 Bal Blues. \n\n\nHoraires : Soirée jusqu’à 00h30. \n\n\nPrix : Entrée à prix libre.
URL:https://letigre.eu/evenement/nuit-blues-strasbourg-initiation-et-danse/
LOCATION:Petit Tigre\, 5 rue du Faubourg National\, STRASBOURG\, 67000\, France
CATEGORIES:Danse
ATTACH;FMTTYPE=image/webp:https://letigre.eu/wp-content/uploads/2026/01/Nuit-Blues-Strasbourg-Initiation-et-Danse-au-Bar-Le-Tigre.webp
END:VEVENT
BEGIN:VEVENT
DTSTART;TZID=UTC:20260110T200000
DTEND;TZID=UTC:20260111T030000
DTSTAMP:20260421T112729
CREATED:20260105T124435Z
LAST-MODIFIED:20260105T133534Z
UID:22169-1768075200-1768100400@letigre.eu
SUMMARY:Tiger Night
DESCRIPTION:TIGER NIGHT (BACHATA & KIZOMBA)\nLA PLUS GROSSE SOIRÉE DANSE DE JANVIER ! 🔥 \nLe Petit Tigre s’enflamme avec deux salles\, deux ambiances pour une nuit 100% latine et afro ! Soirée Organiser par I’LAND DANCE \n\n\nWorkshops : 2 cours de Bachata et 2 cours de Kizomba pour monter en niveau. \n\n\nLine-up : DJ Matt (Bachata) avec Michael\, Ice & Sarah / DJ Dydy (Kizomba) avec Guillaume & Marga. \n\n\nHoraires : Dès 19h45 jusqu’à 03h30. \n\n\nTarifs : De 10€ à 20€ selon la formule. \n\n\nPrépare tes chaussures de danse et réserve ton pass ici : 0659859121  \nPlanifiez vos prochaines sorties en consultant notre calendrier officiel.
URL:https://letigre.eu/evenement/tiger-night/
LOCATION:Petit Tigre\, 5 rue du Faubourg National\, STRASBOURG\, 67000\, France
CATEGORIES:Danse
ATTACH;FMTTYPE=image/webp:https://letigre.eu/wp-content/uploads/2026/01/Soirée-Bachata-et-Kizomba-Strasbourg-Tiger-Night-au-Tigre.webp
END:VEVENT
BEGIN:VEVENT
DTSTART;TZID=UTC:20260121T110000
DTEND;TZID=UTC:20260121T183000
DTSTAMP:20260421T112729
CREATED:20260121T095729Z
LAST-MODIFIED:20260121T095820Z
UID:22205-1768993200-1769020200@letigre.eu
SUMMARY:POP-UP INAUGURATION - LES SOUVENIRS
DESCRIPTION:DIM. 25 JAN. : POP-UP INAUGURATION – LES SOUVENIRS\nSHOPPING\, DJ SETS & CRÉATEURS ! 💖 \nVenez fêter l’inauguration de la friperie Les Souvenirs au Bar Le Petit Tigre ! Une journée unique dédiée à la mode écoresponsable et au talent local. \n\n\nAu programme : DJ Sets pour shopper en musique\, présence de créateurs locaux et une sélection de vêtements à petits prix. \n\n\nQuand : Dimanche 25 janvier 2026 de 11h00 à 18h30. \n\n\nLieu : Bar Le Petit Tigre\, 5 Rue du Faubourg-National\, Strasbourg. \n\n\nEntrée libre ! Viens dénicher tes pépites et chiller entre amis !
URL:https://letigre.eu/evenement/pop-up-inauguration-les-souvenirs/
LOCATION:Petit Tigre\, 5 rue du Faubourg National\, STRASBOURG\, 67000\, France
CATEGORIES:Vide dressing
ATTACH;FMTTYPE=image/png:https://letigre.eu/wp-content/uploads/2026/01/Inauguration-Les-Souvenirs-Shopping-Vintage-et-Bière-Artisanale-à-la-Petite-France.png
END:VEVENT
BEGIN:VEVENT
DTSTART;TZID=UTC:20260129T200000
DTEND;TZID=UTC:20260129T233000
DTSTAMP:20260421T112729
CREATED:20260105T130212Z
LAST-MODIFIED:20260130T082554Z
UID:22180-1769716800-1769729400@letigre.eu
SUMMARY:Jamm Jazz Janvier
DESCRIPTION:JAM JAZZ DU TIGRE\nLE RENDEZ-VOUS DES MÉLOMANES ! 🎷 \nLa Jam mythique du Tigre revient pour une soirée d’improvisation pure au Caveau. \n\n\nOuverture : Concert exceptionnel du Stefan Sirbu Trio. \n\n\nJam Session : Scène ouverte dès 21h. \n\n\nEntrée : GRATUITE. \n\n\nViens écouter ou jouer\, l’ambiance est garantie ! \nPlanifiez vos prochaines sorties en consultant notre calendrier officiel.
URL:https://letigre.eu/evenement/jamm-jazz-janvier/
LOCATION:Petit Tigre\, 5 rue du Faubourg National\, STRASBOURG\, 67000\, France
CATEGORIES:Concert,Soirées à thèmes
ATTACH;FMTTYPE=image/webp:https://letigre.eu/wp-content/uploads/2026/01/Soirée-Musique-Live-Strasbourg-Jam-Session-Jazz-au-Bar-Le-Tigre.webp
END:VEVENT
BEGIN:VEVENT
DTSTART;TZID=UTC:20260131T210000
DTEND;TZID=UTC:20260201T000000
DTSTAMP:20260421T112729
CREATED:20260105T130832Z
LAST-MODIFIED:20260105T133404Z
UID:22185-1769893200-1769904000@letigre.eu
SUMMARY:Karaoké XXL
DESCRIPTION:KARAOKÉ XXL\nDEVIENS LA STAR DU PETIT TIGRE ! 🌟 \nOn finit le mois en poussant la chansonnette avec le crew le plus déjanté de Strasbourg. \n\n\nAnimé par : Nöximä\, Arï & Anïssa Benma Marley. \n\n\nQuand : 21h00 – 00h00. \n\n\nPlanifiez vos prochaines sorties en consultant notre calendrier officiel.
URL:https://letigre.eu/evenement/karaoke-xxl/
LOCATION:Petit Tigre\, 5 rue du Faubourg National\, STRASBOURG\, 67000\, France
CATEGORIES:KARAOKÉ
ATTACH;FMTTYPE=image/webp:https://letigre.eu/wp-content/uploads/2026/01/Karaoké-XXL-Strasbourg-Soirée-Festive-et-Chant-au-Tigre.webp
END:VEVENT
END:VCALENDAR