BEGIN:VCALENDAR
VERSION:2.0
PRODID:-//Le Tigre | Brasserie à Strasbourg - ECPv6.15.11//NONSGML v1.0//EN
CALSCALE:GREGORIAN
METHOD:PUBLISH
X-WR-CALNAME:Le Tigre | Brasserie à Strasbourg
X-ORIGINAL-URL:https://letigre.eu
X-WR-CALDESC:Évènements pour Le Tigre | Brasserie à Strasbourg
REFRESH-INTERVAL;VALUE=DURATION:PT1H
X-Robots-Tag:noindex
X-PUBLISHED-TTL:PT1H
BEGIN:VTIMEZONE
TZID:UTC
BEGIN:STANDARD
TZOFFSETFROM:+0000
TZOFFSETTO:+0000
TZNAME:UTC
DTSTART:20240101T000000
END:STANDARD
END:VTIMEZONE
BEGIN:VEVENT
DTSTART;TZID=UTC:20250912T220000
DTEND;TZID=UTC:20250913T033000
DTSTAMP:20260421T180554
CREATED:20250901T174906Z
LAST-MODIFIED:20250901T174906Z
UID:21460-1757714400-1757734200@letigre.eu
SUMMARY:4 DA SOUL
DESCRIPTION:
URL:https://letigre.eu/evenement/4-da-soul/
CATEGORIES:DJ Set
ATTACH;FMTTYPE=image/webp:https://letigre.eu/wp-content/uploads/2025/09/affiche-dj-set-tigre-strasbourg.webp
END:VEVENT
BEGIN:VEVENT
DTSTART;TZID=UTC:20250912T220000
DTEND;TZID=UTC:20250928T183000
DTSTAMP:20260421T180554
CREATED:20250821T053200Z
LAST-MODIFIED:20250901T174142Z
UID:21447-1757714400-1759084200@letigre.eu
SUMMARY:Events Septembre 2025
DESCRIPTION:
URL:https://letigre.eu/evenement/events-septembre-2025/
CATEGORIES:Évènements
ATTACH;FMTTYPE=image/webp:https://letigre.eu/wp-content/uploads/2025/08/evenements-septembre-tigre-strasbourg.webp
END:VEVENT
BEGIN:VEVENT
DTSTART;TZID=UTC:20250921T100000
DTEND;TZID=UTC:20250921T190000
DTSTAMP:20260421T180554
CREATED:20250901T193032Z
LAST-MODIFIED:20250901T193032Z
UID:21471-1758448800-1758481200@letigre.eu
SUMMARY:Vide dressing
DESCRIPTION:
URL:https://letigre.eu/evenement/vide-dressing/
CATEGORIES:Évènements
ATTACH;FMTTYPE=image/webp:https://letigre.eu/wp-content/uploads/2025/09/affiche-vide-dressing-tigre.webp
END:VEVENT
BEGIN:VEVENT
DTSTART;TZID=UTC:20250925T200000
DTEND;TZID=UTC:20250925T230000
DTSTAMP:20260421T180554
CREATED:20250901T192426Z
LAST-MODIFIED:20250901T192426Z
UID:21466-1758830400-1758841200@letigre.eu
SUMMARY:Jam Jazz
DESCRIPTION:
URL:https://letigre.eu/evenement/jam-jazz/
CATEGORIES:Concert
ATTACH;FMTTYPE=image/webp:https://letigre.eu/wp-content/uploads/2025/09/affiche-jam-jazz-septembre-tigre.webp
END:VEVENT
BEGIN:VEVENT
DTSTART;TZID=UTC:20250919T210000
DTEND;TZID=UTC:20250919T210000
DTSTAMP:20260421T180554
CREATED:20250901T192901Z
LAST-MODIFIED:20250901T192901Z
UID:21469-1758315600-1758315600@letigre.eu
SUMMARY:La Nuit Méditerranéenne
DESCRIPTION:
URL:https://letigre.eu/evenement/la-nuit-mediterraneenne/
CATEGORIES:Concert
ATTACH;FMTTYPE=image/webp:https://letigre.eu/wp-content/uploads/2025/09/affiche-nuit-mediterannee.webp
END:VEVENT
END:VCALENDAR