BEGIN:VCALENDAR
VERSION:2.0
PRODID:-//Le Tigre | Brasserie à Strasbourg - ECPv6.15.11//NONSGML v1.0//EN
CALSCALE:GREGORIAN
METHOD:PUBLISH
X-ORIGINAL-URL:https://letigre.eu
X-WR-CALDESC:Évènements pour Le Tigre | Brasserie à Strasbourg
REFRESH-INTERVAL;VALUE=DURATION:PT1H
X-Robots-Tag:noindex
X-PUBLISHED-TTL:PT1H
BEGIN:VTIMEZONE
TZID:UTC
BEGIN:STANDARD
TZOFFSETFROM:+0000
TZOFFSETTO:+0000
TZNAME:UTC
DTSTART:20250101T000000
END:STANDARD
END:VTIMEZONE
BEGIN:VEVENT
DTSTART;TZID=UTC:20260206T200000
DTEND;TZID=UTC:20260206T233000
DTSTAMP:20260419T153559
CREATED:20260129T140005Z
LAST-MODIFIED:20260129T140139Z
UID:22220-1770408000-1770420600@letigre.eu
SUMMARY:NUIT BLUES
DESCRIPTION:VEN. 06 FÉVRIER : NUIT BLUES\nVIBRE AU RYTHME DU BLUES ! 🎶 \nRejoins-nous au Bar le Tigre pour une soirée immersive dédiée à la culture Blues avec The Steppin Community. Que tu fasses tes premiers pas ou que tu sois un habitué du parquet\, tout le monde est le bienvenu ! \n\n\nAu programme : 20h00 Initiation (tous niveaux) & 21h00 Bal blues. \n\n\nLieu : Bar le Tigre. \n\n\nPrix : Entrée à prix libre. \n\n\nViens partager un moment authentique et laisse-toi porter par la musique !
URL:https://letigre.eu/evenement/nuit-blues/
LOCATION:Petit Tigre\, 5 rue du Faubourg National\, STRASBOURG\, 67000\, France
CATEGORIES:Danse,Soirées à thèmes
ATTACH;FMTTYPE=image/webp:https://letigre.eu/wp-content/uploads/2026/01/Soirée-Blues-au-Tigre-Dansez-avec-The-Steppin-Community-à-la-Petite-France-scaled.webp
END:VEVENT
BEGIN:VEVENT
DTSTART;TZID=UTC:20260226T200000
DTEND;TZID=UTC:20260227T003000
DTSTAMP:20260419T153559
CREATED:20260209T125033Z
LAST-MODIFIED:20260209T125033Z
UID:22247-1772136000-1772152200@letigre.eu
SUMMARY:JAM JAZZ Février
DESCRIPTION:JEU. 26 FÉVRIER : JAM JAZZ DU TIGRE\nLE RENDEZ-VOUS INCONTOURNABLE DES MÉLOMANES ! 🎷 \nLe Caveau du Tigre ouvre ses portes pour une soirée d’improvisation pure ! Que tu sois musicien prêt à monter sur scène ou simple amateur de bon son\, viens vibrer au rythme du jazz. \n\n\nOuverture : Concert exceptionnel du Stefan Sirbu Trio. \n\n\nJam Session : Scène ouverte à tous les talents dès 21h. \n\n\nHoraires : De 20h00 à 00h30. \n\n\nPrix : Entrée à prix libre. \n\n\nPrépare ton instrument et réserve ton accès pour une nuit magique !
URL:https://letigre.eu/evenement/jam-jazz-fevrier/
LOCATION:Petit Tigre\, 5 rue du Faubourg National\, STRASBOURG\, 67000\, France
CATEGORIES:Concert,Soirées à thèmes
ATTACH;FMTTYPE=image/jpeg:https://letigre.eu/wp-content/uploads/2026/02/Concert-Jazz-Strasbourg-La-Jam-Jazz-du-Tigre-avec-le-Stefan-Sirbu-Trio-scaled.jpg
END:VEVENT
END:VCALENDAR