BEGIN:VCALENDAR
VERSION:2.0
PRODID:-//Le Tigre | Brasserie à Strasbourg - ECPv6.15.11//NONSGML v1.0//EN
CALSCALE:GREGORIAN
METHOD:PUBLISH
X-ORIGINAL-URL:https://letigre.eu
X-WR-CALDESC:Évènements pour Le Tigre | Brasserie à Strasbourg
REFRESH-INTERVAL;VALUE=DURATION:PT1H
X-Robots-Tag:noindex
X-PUBLISHED-TTL:PT1H
BEGIN:VTIMEZONE
TZID:UTC
BEGIN:STANDARD
TZOFFSETFROM:+0000
TZOFFSETTO:+0000
TZNAME:UTC
DTSTART:20240101T000000
END:STANDARD
END:VTIMEZONE
BEGIN:VEVENT
DTSTART;TZID=UTC:20250912T220000
DTEND;TZID=UTC:20250913T033000
DTSTAMP:20260421T230022
CREATED:20250901T174906Z
LAST-MODIFIED:20250901T174906Z
UID:21460-1757714400-1757734200@letigre.eu
SUMMARY:4 DA SOUL
DESCRIPTION:
URL:https://letigre.eu/evenement/4-da-soul/
CATEGORIES:DJ Set
ATTACH;FMTTYPE=image/webp:https://letigre.eu/wp-content/uploads/2025/09/affiche-dj-set-tigre-strasbourg.webp
END:VEVENT
END:VCALENDAR