BEGIN:VCALENDAR
VERSION:2.0
PRODID:-//Le Tigre | Brasserie à Strasbourg - ECPv6.15.11//NONSGML v1.0//EN
CALSCALE:GREGORIAN
METHOD:PUBLISH
X-ORIGINAL-URL:https://letigre.eu
X-WR-CALDESC:Évènements pour Le Tigre | Brasserie à Strasbourg
REFRESH-INTERVAL;VALUE=DURATION:PT1H
X-Robots-Tag:noindex
X-PUBLISHED-TTL:PT1H
BEGIN:VTIMEZONE
TZID:UTC
BEGIN:STANDARD
TZOFFSETFROM:+0000
TZOFFSETTO:+0000
TZNAME:UTC
DTSTART:20240101T000000
END:STANDARD
END:VTIMEZONE
BEGIN:VEVENT
DTSTART;TZID=UTC:20251012T140000
DTEND;TZID=UTC:20251012T170000
DTSTAMP:20260419T143118
CREATED:20251005T194558Z
LAST-MODIFIED:20260121T133136Z
UID:21484-1760277600-1760288400@letigre.eu
SUMMARY:Bingo Drag
DESCRIPTION:
URL:https://letigre.eu/evenement/bingo-drag-3/
LOCATION:Petit Tigre\, 5 rue du Faubourg National\, STRASBOURG\, 67000\, France
CATEGORIES:Bingo
ATTACH;FMTTYPE=image/webp:https://letigre.eu/wp-content/uploads/2025/10/affiche-bingo-drag-petit-tigre.webp
END:VEVENT
END:VCALENDAR