BEGIN:VCALENDAR
VERSION:2.0
PRODID:-//Le Tigre | Brasserie à Strasbourg - ECPv6.15.11//NONSGML v1.0//EN
CALSCALE:GREGORIAN
METHOD:PUBLISH
X-WR-CALNAME:Le Tigre | Brasserie à Strasbourg
X-ORIGINAL-URL:https://letigre.eu
X-WR-CALDESC:Évènements pour Le Tigre | Brasserie à Strasbourg
REFRESH-INTERVAL;VALUE=DURATION:PT1H
X-Robots-Tag:noindex
X-PUBLISHED-TTL:PT1H
BEGIN:VTIMEZONE
TZID:UTC
BEGIN:STANDARD
TZOFFSETFROM:+0000
TZOFFSETTO:+0000
TZNAME:UTC
DTSTART:20240101T000000
END:STANDARD
END:VTIMEZONE
BEGIN:VEVENT
DTSTART;TZID=UTC:20250426T190000
DTEND;TZID=UTC:20250426T190000
DTSTAMP:20260419T235323
CREATED:20250407T170434Z
LAST-MODIFIED:20250514T120311Z
UID:19774-1745694000-1745694000@letigre.eu
SUMMARY:Bingo Drag XXL
DESCRIPTION:
URL:https://letigre.eu/evenement/bingo-drag-xxl/
LOCATION:Caveau
CATEGORIES:Bingo
ATTACH;FMTTYPE=image/webp:https://letigre.eu/wp-content/uploads/2025/04/bingo-drap-avril-tigre.webp
END:VEVENT
END:VCALENDAR