BEGIN:VCALENDAR
VERSION:2.0
PRODID:-//Le Tigre | Brasserie à Strasbourg - ECPv6.15.11//NONSGML v1.0//EN
CALSCALE:GREGORIAN
METHOD:PUBLISH
X-ORIGINAL-URL:https://letigre.eu
X-WR-CALDESC:Évènements pour Le Tigre | Brasserie à Strasbourg
REFRESH-INTERVAL;VALUE=DURATION:PT1H
X-Robots-Tag:noindex
X-PUBLISHED-TTL:PT1H
BEGIN:VTIMEZONE
TZID:UTC
BEGIN:STANDARD
TZOFFSETFROM:+0000
TZOFFSETTO:+0000
TZNAME:UTC
DTSTART:20250101T000000
END:STANDARD
END:VTIMEZONE
BEGIN:VEVENT
DTSTART;TZID=UTC:20260201T170000
DTEND;TZID=UTC:20260201T203000
DTSTAMP:20260421T112656
CREATED:20260130T082301Z
LAST-MODIFIED:20260130T082301Z
UID:22225-1769965200-1769977800@letigre.eu
SUMMARY:LA BOITES A SKETCHS SPÉCIAL COUPLE
DESCRIPTION:1er FÉVRIER : LA BOÎTE À SKETCHS – SPÉCIALE COUPLE\nL’HUMOUR EST À L’HONNEUR POUR LA SAINT-VALENTIN ! 😂 \nLa revue la plus déjantée de Strasbourg revient avec un spectacle 100% humour dédié aux couples (mais pas que !). Vie de famille\, actu\, sport… personne n’est épargné par la troupe de La Boîte à Théâtre. \n\n\nDates & Horaires : \n\n\nDimanche 01 Février à 17h00 \n\n\nSamedi 07 Février à 20h30 \n\n\nDimanche 08 Février à 17h00 \n\n\n\n\nLieu : Bar Le Tigre \n\n\nTarif : Entrée 11€ \n\n\nRéserve vite ta place ici  pour une soirée riche en rires ! 🎟️🎭
URL:https://letigre.eu/evenement/la-boites-a-sketchs-special-couple/
LOCATION:Petit Tigre\, 5 rue du Faubourg National\, STRASBOURG\, 67000\, France
CATEGORIES:Sketchs
ATTACH;FMTTYPE=image/webp:https://letigre.eu/wp-content/uploads/2026/01/Sortie-Saint-Valentin-Strasbourg-Humour-et-rire-à-la-Brasserie-Le-Tigre-scaled.webp
ORGANIZER;CN="LA BO%C3%8ETE %C3%80 TH%C3%89%C3%82TRE":MAILTO:frederic@laboiteatheatre.fr
END:VEVENT
END:VCALENDAR