BEGIN:VCALENDAR
VERSION:2.0
PRODID:-//Le Tigre | Brasserie à Strasbourg - ECPv6.15.11//NONSGML v1.0//EN
CALSCALE:GREGORIAN
METHOD:PUBLISH
X-WR-CALNAME:Le Tigre | Brasserie à Strasbourg
X-ORIGINAL-URL:https://letigre.eu
X-WR-CALDESC:Évènements pour Le Tigre | Brasserie à Strasbourg
REFRESH-INTERVAL;VALUE=DURATION:PT1H
X-Robots-Tag:noindex
X-PUBLISHED-TTL:PT1H
BEGIN:VTIMEZONE
TZID:UTC
BEGIN:STANDARD
TZOFFSETFROM:+0000
TZOFFSETTO:+0000
TZNAME:UTC
DTSTART:20250101T000000
END:STANDARD
END:VTIMEZONE
BEGIN:VEVENT
DTSTART;VALUE=DATE:20260105
DTEND;VALUE=DATE:20260201
DTSTAMP:20260421T125403
CREATED:20260105T123105Z
LAST-MODIFIED:20260105T133646Z
UID:22163-1767571200-1769903999@letigre.eu
SUMMARY:Événements janvier 2026
DESCRIPTION:  \nLe Programme de Janvier au Petit Tigre ! 🐯🔥\nCommencez l’année en beauté avec un mois ultra-festif. Danse\, humour\, musique et Drag Show : votre QG est prêt ! \nLes Rendez-vous à ne pas manquer :\n\n\nVen. 09 : NUIT BLUES 🎷 — 20h00 / Initiation et soirée dansante avec The Steppin Community. \n\n\nSam. 10 : TIGER NIGHT 💃 — Dès 19h45 / Avec Aysel Bal et I’Land Dance S’cool (10€ à 20€). \n\n\nSam. 24 : SPECTACULAR DRAG STAGE 👑 — 21h00 / Présenté par Madame de Kurbis & Melankhölia Marley (10€). \n\n\nDim. 25 : POP-UP – LES SOUVENIRS 🛍️ — 11h00-19h00 / Frip\, DJ set\, marché de créateurs & more. \n\n\nJeu. 29 : JAM JAZZ DU TIGRE 🎺 — 20h00 / Concert d’ouverture avec Stefan Sirbu Trio (GRATUIT). \n\n\nSam. 31 : KARAOKÉ XXL 🎤 — 21h00 / Animé par Nöximä\, Arï & Anïssa Benma Marley. \n\n\nQG DU RACING ⚽\nSupporters\, venez vibrer pour les matchs du mois : \n\n\n03 Jan. (19h) : Nice / 10 Jan. (18h) : Avranches \n\n\n18 Jan. (15h) : Metz / 25 Jan. (20h45) : Lille
URL:https://letigre.eu/evenement/evenements-janvier-2026/
LOCATION:Petit Tigre\, 5 rue du Faubourg National\, STRASBOURG\, 67000\, France
CATEGORIES:Calendrier
ATTACH;FMTTYPE=image/webp:https://letigre.eu/wp-content/uploads/2026/01/Événements-Strasbourg-Concerts-Jazz-et-Karaoké-au-Tigre.webp
END:VEVENT
BEGIN:VEVENT
DTSTART;TZID=UTC:20260109T203000
DTEND;TZID=UTC:20260110T000000
DTSTAMP:20260421T125403
CREATED:20260105T125153Z
LAST-MODIFIED:20260106T080718Z
UID:22175-1767990600-1768003200@letigre.eu
SUMMARY:Nuit Blues Strasbourg : Initiation et Danse
DESCRIPTION:VEN. 09 JAN. : NUIT BLUES\nLANCE TON WEEK-END AVEC DU FEELING ! 🎶 \nRendez-vous au bar le Tigre pour une immersion totale dans la culture Blues. Que tu sois débutant ou passionné\, viens vibrer avec The Steppin Community ! \n\n\nProgramme : 20h00 Initiation pour tous niveaux & 21h00 Bal Blues. \n\n\nHoraires : Soirée jusqu’à 00h30. \n\n\nPrix : Entrée à prix libre.
URL:https://letigre.eu/evenement/nuit-blues-strasbourg-initiation-et-danse/
LOCATION:Petit Tigre\, 5 rue du Faubourg National\, STRASBOURG\, 67000\, France
CATEGORIES:Danse
ATTACH;FMTTYPE=image/webp:https://letigre.eu/wp-content/uploads/2026/01/Nuit-Blues-Strasbourg-Initiation-et-Danse-au-Bar-Le-Tigre.webp
END:VEVENT
END:VCALENDAR