BEGIN:VCALENDAR
VERSION:2.0
PRODID:-//Le Tigre | Brasserie à Strasbourg - ECPv6.15.11//NONSGML v1.0//EN
CALSCALE:GREGORIAN
METHOD:PUBLISH
X-ORIGINAL-URL:https://letigre.eu
X-WR-CALDESC:Évènements pour Le Tigre | Brasserie à Strasbourg
REFRESH-INTERVAL;VALUE=DURATION:PT1H
X-Robots-Tag:noindex
X-PUBLISHED-TTL:PT1H
BEGIN:VTIMEZONE
TZID:UTC
BEGIN:STANDARD
TZOFFSETFROM:+0000
TZOFFSETTO:+0000
TZNAME:UTC
DTSTART:20240101T000000
END:STANDARD
END:VTIMEZONE
BEGIN:VEVENT
DTSTART;TZID=UTC:20251101T000000
DTEND;TZID=UTC:20251202T233000
DTSTAMP:20260421T163117
CREATED:20251030T132844Z
LAST-MODIFIED:20251121T150431Z
UID:21765-1761955200-1764718200@letigre.eu
SUMMARY:Events Novembre 2025
DESCRIPTION:1. 🎷 JEU. 06 NOV. : JAM JAZZ (GRATUIT)\nGROOVE DU JEUDI ! 🎺 JAM JAZZ GRATUITE AU CAVEAU \n\n20h00 : Concert d’ouverture offert avec le Stefan Sirbu Trio.\n21h00 : Début du Jam ! Jazz\, Blues\, Funk.\nBONUS MUSICIENS : Boisson offerte si tu viens jouer !\n\n2. 🎭 VEN. 07 & DIM. 09 NOV. : LA BOÎTE À SKETCHS (11€)\nFOUS RIRES GARANTIS ! 😂 LA BOÎTE À SKETCHS \n\nLe Concept : Nouveau spectacle d’humour et de comédie par La Boîte à Théâtre.\nDates : Ven. 07 (20h30) et Dim. 09 (17h00).\nPRIX : 11€.\n\nLes places partent vite ! 🎟️ Réserve ta place maintenant : La Boîte à Théâtre \n3. 🚀 VEN. 14 NOV. : FREQ#5 (PAYANT)\nNUIT TECHNO EXTRÊME ! 🔥 FREQ#5 : HARD GROOVE & NEO TRANCE \n\nLe Son : BASSES PUISSANTES. Pour les fans de son intense.\nHeure : 22h00 – 03h30.\nPrix : Entrée libre a partir de 2 euros\n\nNe rate pas le banger du mois ! 💥 \n4. 🎤 SAM. 15 NOV. : KARAOKÉ XXL\nMICRO ET PAILLETTES ! 🌟 KARAOKÉ XXL AU PETIT TIGRE \n\nHosté par : NOXIMÄ\, Ari & Anissa Benma Marley.\nQuand : Samedi\, 19h30 – 22h30.\nAmbiance : Festive\, drôle\, sans filtre !\nEntrée Libre\n\n5. 🎭 DIM. 16 NOV. : LA BOÎTE À SKETCHS (11€)\nHUMOUR DU DIMANCHE ! 😂 LA BOÎTE À SKETCHS \n\nNouveau Show par La Boîte à Théâtre.\nQuand : Dimanche 16 Nov. à 17h00.\nPRIX : 11€.\n\nIdéal pour finir le weekend ! 🎟️  Réserve ta place maintenant : La Boîte à Théâtre \n6. ✨ VEN. 21 NOV. : Annulée !!!\n7. 👑 SAM. 22 NOV. : SPECTACULAR DRAG STAGE\nSHOW LÉGENDAIRE ! 💋 SPECTACULAR DRAG STAGE \n\nPrésenté par : MADAME DE KURBIS & MELANKHÖLIA MARLEY.\nQuand : Samedi\, 21h00 – 00h30.\nVibe : Glamour\, performances incroyables\, soirée culte.\n\nRéserve ta place maintenant : House Of Marley Entertainment  ! Un show à ne pas rater ! 👑 \n8. 💃 VEN. 28 NOV. : Annulée !!!
URL:https://letigre.eu/evenement/calendrier-novembre-evenement-le-tigre/
LOCATION:Petit Tigre\, 5 rue du Faubourg National\, STRASBOURG\, 67000\, France
ATTACH;FMTTYPE=image/webp:https://letigre.eu/wp-content/uploads/2025/10/A-_1_.webp
END:VEVENT
BEGIN:VEVENT
DTSTART;TZID=UTC:20251114T100000
DTEND;TZID=UTC:20251115T033000
DTSTAMP:20260421T163117
CREATED:20251110T095908Z
LAST-MODIFIED:20251113T133213Z
UID:21921-1763114400-1763177400@letigre.eu
SUMMARY:StrassGroove
DESCRIPTION:FREQ CONTROL #5 (Ven. 14 Novembre) \n\n\n\n\n\n  \nNUIT ÉLECTRO MAX ! 🚀 FREQ CONTROL #5 : LE PETIT TIGRE \nPrépare-toi à une immersion totale dans la nuit électronique ! FREQ CONTROL #5 revient avec un line-up de DJs ultra-pointus pour une nuit de TECHNO\, HARD GROOVE et NÉO TRANCE qui va te faire vibrer. \n  \nLine-Up Choc (A-Z) :\n  \n\nARBO (31 HERTZ)\nDON’T TELL MUM (BLINKD)\nGREAMMLINS\nR-WIN (LA CO-LOCK)\nSTAARY (RAKOR)\n\n  \nInfos Clés :\n  \n\nQUAND ? Vendredi 14 Novembre\nHEURES ? 22h00 – 03h30\nPRIX ? Prix Libre a partir de 3€ (En prévente et sur place)\nOÙ ? Le Petit Tigre\, 5 rue du Faubourg-National.\n\nTon week-end commence ici ! StrasGroove
URL:https://letigre.eu/evenement/strassgroove/
LOCATION:Petit Tigre\, 5 rue du Faubourg National\, STRASBOURG\, 67000\, France
ATTACH;FMTTYPE=image/webp:https://letigre.eu/wp-content/uploads/2025/11/AnyConv.com__Design-sans-titre-min.webp
ORGANIZER;CN="Strasgroove":MAILTO:info.strasgroove@gmail.com
END:VEVENT
END:VCALENDAR