BEGIN:VCALENDAR
VERSION:2.0
PRODID:-//Le Tigre | Brasserie à Strasbourg - ECPv6.15.11//NONSGML v1.0//EN
CALSCALE:GREGORIAN
METHOD:PUBLISH
X-ORIGINAL-URL:https://letigre.eu
X-WR-CALDESC:Évènements pour Le Tigre | Brasserie à Strasbourg
REFRESH-INTERVAL;VALUE=DURATION:PT1H
X-Robots-Tag:noindex
X-PUBLISHED-TTL:PT1H
BEGIN:VTIMEZONE
TZID:UTC
BEGIN:STANDARD
TZOFFSETFROM:+0000
TZOFFSETTO:+0000
TZNAME:UTC
DTSTART:20240101T000000
END:STANDARD
END:VTIMEZONE
BEGIN:VEVENT
DTSTART;TZID=UTC:20250714T200000
DTEND;TZID=UTC:20250824T010000
DTSTAMP:20260421T225716
CREATED:20250724T192915Z
LAST-MODIFIED:20250724T192915Z
UID:21436-1752523200-1755997200@letigre.eu
SUMMARY:Happy hours tous les jours de l'été !
DESCRIPTION:
URL:https://letigre.eu/evenement/happy-hours-tous-les-jours-de-lete/
CATEGORIES:Évènements
ATTACH;FMTTYPE=image/webp:https://letigre.eu/wp-content/uploads/2025/07/affiche-happy-hours-tigre.webp
END:VEVENT
BEGIN:VEVENT
DTSTART;TZID=UTC:20250717T200000
DTEND;TZID=UTC:20250828T233000
DTSTAMP:20260421T225716
CREATED:20250724T193822Z
LAST-MODIFIED:20250724T193822Z
UID:21439-1752782400-1756423800@letigre.eu
SUMMARY:Drag Race
DESCRIPTION:
URL:https://letigre.eu/evenement/drag-race/
CATEGORIES:Évènements
ATTACH;FMTTYPE=image/webp:https://letigre.eu/wp-content/uploads/2025/07/drag-race-tigre-strasbourg.webp
END:VEVENT
END:VCALENDAR