BEGIN:VCALENDAR
VERSION:2.0
PRODID:-//Le Tigre | Brasserie à Strasbourg - ECPv6.15.11//NONSGML v1.0//EN
CALSCALE:GREGORIAN
METHOD:PUBLISH
X-ORIGINAL-URL:https://letigre.eu
X-WR-CALDESC:Évènements pour Le Tigre | Brasserie à Strasbourg
REFRESH-INTERVAL;VALUE=DURATION:PT1H
X-Robots-Tag:noindex
X-PUBLISHED-TTL:PT1H
BEGIN:VTIMEZONE
TZID:UTC
BEGIN:STANDARD
TZOFFSETFROM:+0000
TZOFFSETTO:+0000
TZNAME:UTC
DTSTART:20240101T000000
END:STANDARD
END:VTIMEZONE
BEGIN:VEVENT
DTSTART;TZID=UTC:20250601T210000
DTEND;TZID=UTC:20250623T233000
DTSTAMP:20260422T003734
CREATED:20250612T065119Z
LAST-MODIFIED:20250612T065119Z
UID:21416-1748811600-1750721400@letigre.eu
SUMMARY:Actualités Juin
DESCRIPTION:
URL:https://letigre.eu/evenement/actualites-juin/
CATEGORIES:Évènements
ATTACH;FMTTYPE=image/webp:https://letigre.eu/wp-content/uploads/2025/06/match-diffusion-tigre.webp
END:VEVENT
BEGIN:VEVENT
DTSTART;TZID=UTC:20250607T210000
DTEND;TZID=UTC:20250621T233000
DTSTAMP:20260422T003734
CREATED:20250612T064908Z
LAST-MODIFIED:20250612T064908Z
UID:21411-1749330000-1750548600@letigre.eu
SUMMARY:Events Juin 2025
DESCRIPTION:
URL:https://letigre.eu/evenement/events-juin-2025/
CATEGORIES:Évènements
ATTACH;FMTTYPE=image/webp:https://letigre.eu/wp-content/uploads/2025/06/evenements-juin-tigre.webp
END:VEVENT
BEGIN:VEVENT
DTSTART;TZID=UTC:20250619T200000
DTEND;TZID=UTC:20250619T200000
DTSTAMP:20260422T003734
CREATED:20250612T065256Z
LAST-MODIFIED:20250612T065256Z
UID:21418-1750363200-1750363200@letigre.eu
SUMMARY:Jam Session Jazz
DESCRIPTION:
URL:https://letigre.eu/evenement/jam-session-jazz-2/
CATEGORIES:Concert
ATTACH;FMTTYPE=image/webp:https://letigre.eu/wp-content/uploads/2025/06/jam-session-jazz-tigre.webp
END:VEVENT
END:VCALENDAR