BEGIN:VCALENDAR
VERSION:2.0
PRODID:-//Le Tigre | Brasserie à Strasbourg - ECPv6.15.11//NONSGML v1.0//EN
CALSCALE:GREGORIAN
METHOD:PUBLISH
X-ORIGINAL-URL:https://letigre.eu
X-WR-CALDESC:Évènements pour Le Tigre | Brasserie à Strasbourg
REFRESH-INTERVAL;VALUE=DURATION:PT1H
X-Robots-Tag:noindex
X-PUBLISHED-TTL:PT1H
BEGIN:VTIMEZONE
TZID:UTC
BEGIN:STANDARD
TZOFFSETFROM:+0000
TZOFFSETTO:+0000
TZNAME:UTC
DTSTART:20240101T000000
END:STANDARD
END:VTIMEZONE
BEGIN:VEVENT
DTSTART;TZID=UTC:20250502T190000
DTEND;TZID=UTC:20250531T190000
DTSTAMP:20260422T021307
CREATED:20250502T121639Z
LAST-MODIFIED:20250514T120253Z
UID:20981-1746212400-1748718000@letigre.eu
SUMMARY:Events Mai 2025
DESCRIPTION:
URL:https://letigre.eu/evenement/evenements-mai-2025/
CATEGORIES:Évènements
ATTACH;FMTTYPE=image/webp:https://letigre.eu/wp-content/uploads/2025/05/evenements-mai-tigre-bar-strasbourg.webp
END:VEVENT
BEGIN:VEVENT
DTSTART;TZID=UTC:20250531T210000
DTEND;TZID=UTC:20250531T233000
DTSTAMP:20260422T021307
CREATED:20250527T091335Z
LAST-MODIFIED:20250527T091335Z
UID:21340-1748725200-1748734200@letigre.eu
SUMMARY:Finale Ligue des Champions
DESCRIPTION:
URL:https://letigre.eu/evenement/finale-ligue-des-champions/
CATEGORIES:Évènements sportifs
ATTACH;FMTTYPE=image/webp:https://letigre.eu/wp-content/uploads/2025/05/affiche-ligue-des-champions.webp
END:VEVENT
END:VCALENDAR