BEGIN:VCALENDAR
VERSION:2.0
PRODID:-//Le Tigre | Brasserie à Strasbourg - ECPv6.15.11//NONSGML v1.0//EN
CALSCALE:GREGORIAN
METHOD:PUBLISH
X-ORIGINAL-URL:https://letigre.eu
X-WR-CALDESC:Évènements pour Le Tigre | Brasserie à Strasbourg
REFRESH-INTERVAL;VALUE=DURATION:PT1H
X-Robots-Tag:noindex
X-PUBLISHED-TTL:PT1H
BEGIN:VTIMEZONE
TZID:UTC
BEGIN:STANDARD
TZOFFSETFROM:+0000
TZOFFSETTO:+0000
TZNAME:UTC
DTSTART:20240101T000000
END:STANDARD
END:VTIMEZONE
BEGIN:VEVENT
DTSTART;TZID=UTC:20250401T200000
DTEND;TZID=UTC:20250430T190000
DTSTAMP:20260422T021209
CREATED:20250407T164713Z
LAST-MODIFIED:20250514T120325Z
UID:19741-1743537600-1746039600@letigre.eu
SUMMARY:Ce mois-ci au Tigre
DESCRIPTION:
URL:https://letigre.eu/evenement/ce-mois-ci-au-tigre/
CATEGORIES:Évènements
ATTACH;FMTTYPE=image/webp:https://letigre.eu/wp-content/uploads/2025/04/affiche-events-avril-tigre-scaled.webp
END:VEVENT
BEGIN:VEVENT
DTSTART;TZID=UTC:20250406T190000
DTEND;TZID=UTC:20250430T190000
DTSTAMP:20260422T021209
CREATED:20250407T170953Z
LAST-MODIFIED:20250514T120320Z
UID:19787-1743966000-1746039600@letigre.eu
SUMMARY:Champions League
DESCRIPTION:
URL:https://letigre.eu/evenement/champions-league/
CATEGORIES:Évènements sportifs
ATTACH;FMTTYPE=image/webp:https://letigre.eu/wp-content/uploads/2025/04/match-champions-league-foot-tigre-scaled.webp
END:VEVENT
END:VCALENDAR